Workbook

Sheet REKAP
A1: Rekapitulasi Reduksi Bank Sampah Provinsi DKI Jakarta Tahun 2024
A3: No | B3: Nama Kota/Kabupaten Administrasi | C3: Reduksi (kg/bulan)
C4: Januari | D4: Februari | E4: Maret | F4: April | G4: Mei | H4: Juni | I4: Juli | J4: Agustus | K4: September | L4: Oktober | M4: November | N4: Desember
A5: 1 | B5: Jakarta Pusat | C5: ='Jakarta Pusat'!C14 -> 199207.89 | D5: ='Jakarta Pusat'!D14 -> 213822.94 | E5: ='Jakarta Pusat'!E14 -> 211129.57 | F5: ='Jakarta Pusat'!F14 -> 153583.42 | G5: ='Jakarta Pusat'!G14 -> 225052.76 | H5: ='Jakarta Pusat'!H14 -> 152169.3 | I5: ='Jakarta Pusat'!I14 -> 321406.11 | J5: ='Jakarta Pusat'!J14 -> 241692.3 | ... N5: ='Jakarta Pusat'!N14 -> 0
A6: 2 | B6: Jakarta Utara | C6: ='Jakarta Utara'!C11 -> 468776.21 | D6: ='Jakarta Utara'!D11 -> 139681.12 | E6: ='Jakarta Utara'!E11 -> 136264.78 | F6: ='Jakarta Utara'!F11 -> 153714.32 | G6: ='Jakarta Utara'!G11 -> 152910.15 | H6: ='Jakarta Utara'!H11 -> 151820.73 | I6: ='Jakarta Utara'!I11 -> 196136.8 | J6: ='Jakarta Utara'!J11 -> 208312.76 | ... N6: ='Jakarta Utara'!N11 -> 238074.28
A7: 3 | B7: Jakarta Barat | C7: ='Jakarta Barat'!C13 -> 123528.91 | D7: ='Jakarta Barat'!D13 -> 138325.8 | E7: ='Jakarta Barat'!E13 -> 233045.77 | F7: ='Jakarta Barat'!F13 -> 222641.24 | G7: ='Jakarta Barat'!G13 -> 209358.94 | H7: ='Jakarta Barat'!H13 -> 104632.3 | I7: ='Jakarta Barat'!I13 -> 160261.79 | J7: ='Jakarta Barat'!J13 -> 427773.16 | ... M7: ='Jakarta Barat'!M13 -> 135704.2
A8: 4 | B8: Jakarta Selatan | C8: ='Jakarta Selatan'!C16 -> 132115.39 | D8: ='Jakarta Selatan'!D16 -> 108918.38 | E8: ='Jakarta Selatan'!E16 -> 69295.87 | F8: ='Jakarta Selatan'!F16 -> 55271.17 | G8: ='Jakarta Selatan'!G16 -> 132235.71 | H8: ='Jakarta Selatan'!H16 -> 70906.77 | I8: ='Jakarta Selatan'!I16 -> 113689.77 | J8: ='Jakarta Selatan'!J16 -> 129698.09 | ... M8: ='Jakarta Selatan'!M16 -> 112905.62
A9: 5 | B9: Jakarta Timur | C9: ='Jakarta Timur'!C16 -> 141797.82 | D9: ='Jakarta Timur'!D16 -> 130390.14 | E9: ='Jakarta Timur'!E16 -> 80325.33 | F9: ='Jakarta Timur'!F16 -> 75658.96 | G9: ='Jakarta Timur'!G16 -> 201553.06 | H9: ='Jakarta Timur'!H16 -> 279963.27 | I9: ='Jakarta Timur'!I16 -> 205349.43 | J9: ='Jakarta Timur'!J16 -> 207977.96 | ... M9: ='Jakarta Timur'!M16 -> 116972.15
A10: 6 | B10: Kepulauan Seribu | C10: ='P1000'!C7 -> 4034.09 | D10: ='P1000'!D7 -> 4970.8 | E10: ='P1000'!E7 -> 6624.67 | F10: ='P1000'!F7 -> 6445.1 | G10: ='P1000'!G7 -> 6504.18 | H10: ='P1000'!H7 -> 6520.12 | I10: ='P1000'!I7 -> 5529.98 | J10: ='P1000'!J7 -> 5629.46 | ... M10: ='P1000'!M7 -> 6219.77
B11: TOTAL | C11: =SUM(C5:C10) -> 1069460.3 | D11: =SUM(D5:D10) -> 736109.18 | E11: =SUM(E5:E10) -> 736685.99 | F11: =SUM(F5:F10) -> 667314.21 | G11: =SUM(G5:G10) -> 927614.8 | H11: =SUM(H5:H10) -> 766012.49 | I11: =SUM(I5:I10) -> 1002373.9 | J11: =SUM(J5:J10) -> 1221083.7 | ... N11: =SUM(N5:N10) -> 238074.28
B12: TOTAL AKUMULATIF | C12: =C11 -> 1069460.3 | D12: =C12+D11 -> 1805569.5 | E12: =D12+E11 -> 2542255.5 | F12: =E12+F11 -> 3209569.7 | G12: =F12+G11 -> 4137184.5 | H12: =G12+H11 -> 4903197 | I12: =H12+I11 -> 5905570.9 | J12: =I12+J11 -> 7126654.6 | K12: =J12+K11 -> 8012590.9 | ... N12: =M12+N11 -> 9757896.6
M15: =AVERAGE(C11:M11) -> 865438.39

Sheet Jakarta Pusat
A1: Reduksi Bank Sampah Tahun 2024
A2: Reduksi Bank Sampah Kota Administrasi Jakarta Pusat Tahun 2024
A4: No | B4: Kecamatan | C4: Reduksi (kg/Bulan)
C5: Januari | D5: Februari | E5: Maret | F5: April | G5: Mei | H5: Juni | I5: Juli | J5: Agustus | K5: September | L5: Oktober | M5: November | N5: Desember
A6: 1 | B6: Cempaka Putih | C6: 37750.78 | D6: 38525.38 | E6: 36495.92 | F6: 9595.37 | G6: 43004.51 | H6: 1904.1 | I6: 41616.74 | J6: 42477.8 | K6: 41616.53 | L6: 43163.47 | M6: 44229.98
A7: 2 | B7: Gambir | C7: 97767.53 | D7: 92406.03 | E7: 96244.15 | F7: 66635.15 | G7: 96772.13 | H7: 52951.5 | I7: 97118.98 | J7: 97099 | K7: 67755 | L7: 28206 | M7: 64707
A8: 3 | B8: Johar Baru | C8: 16364.13 | D8: 18722.41 | E8: 19493.1 | F8: 19152.5 | G8: 20026.5 | H8: 13764 | I8: 17173 | J8: 26252.7 | K8: 15571 | L8: 13206 | M8: 14885.2
A9: 4 | B9: Kemayoran | C9: 8795.4 | D9: 10969.3 | E9: 9951.7 | F9: 5040.7 | G9: 8448.4 | H9: 7302.9 | I9: 9941.1 | J9: 9935.4 | K9: 6033.17 | L9: 8011.4 | M9: 7214.8
A10: 5 | B10: Menteng | C10: 8360 | D10: 9155 | E10: 14576 | F10: 21413 | G10: 25020 | H10: 2756 | I10: 130956 | J10: 32942 | K10: 110360 | L10: 35747 | M10: 19875
A11: 6 | B11: Sawah Besar | C11: 8657 | D11: 22478 | E11: 11085 | F11: 6261 | G11: 4659 | H11: 4259 | I11: 7249 | J11: 7305 | K11: 3691 | L11: 4726 | M11: 5470
A12: 7 | B12: Senen | C12: 11269.95 | D12: 7948.92 | E12: 9319 | F12: 9337 | G12: 9222.52 | H12: 59930.8 | I12: 7487.23 | J12: 10927 | K12: 722.46 | L12: 9207 | M12: 11105
A13: 8 | B13: Tanah Abang | C13: 10243.1 | D13: 13617.9 | E13: 13964.7 | F13: 16148.7 | G13: 17899.7 | H13: 9301 | I13: 9864.06 | J13: 14753.4 | K13: 10804 | L13: 9976.1 | M13: 9470.6
A14: TOTAL | C14: =SUM(C6:C13) -> 199207.89 | D14: =SUM(D6:D13) -> 213822.94 | E14: =SUM(E6:E13) -> 211129.57 | F14: =SUM(F6:F13) -> 153583.42 | G14: =SUM(G6:G13) -> 225052.76 | H14: =SUM(H6:H13) -> 152169.3 | I14: =SUM(I6:I13) -> 321406.11 | J14: =SUM(J6:J13) -> 241692.3 | ... N14: =SUM(N6:N13) -> 0
A15: TARGET AKUMULATIF | B15: TOTAL AKUMULATIF | C15: =C14 -> 199207.89 | D15: =C15+D14 -> 413030.83 | E15: =D15+E14 -> 624160.4 | F15: =E15+F14 -> 777743.82 | G15: =F15+G14 -> 1002796.6 | H15: =G15+H14 -> 1154965.9 | I15: =H15+I14 -> 1476372 | J15: =I15+J14 -> 1718064.3 | K15: =J15+K14 -> 1974617.5 | ... N15: =M15+N14 -> 2303818
A16: TARGET | E16: 550000 | H16: 1100000 | K16: 1650000 | N16: 2220000
A17: TRIWULAN | E17: TW I | H17: TW II | K17: TW III | N17: TW IV

Sheet Jakarta Utara
A1: Reduksi Bank Sampah Kota Administrasi Jakarta Utara Tahun 2024
A3: No | B3: Kecamatan | C3: Reduksi (kg/Bulan)
C4: Januari | D4: Februari | E4: Maret | F4: April | G4: Mei | H4: Juni | I4: Juli | J4: Agustus | K4: September | L4: Oktober | M4: November | N4: Desember
A5: 1 | B5: Cilincing | C5: 22740.15 | D5: 25980.01 | E5: 22397.42 | F5: 19087.46 | G5: 22545.01 | H5: 21435.59 | I5: 36404.919 | J5: 42774.411 | K5: 37450.312 | L5: 34747.973 | M5: 42056.035 | N5: 33510.54
A6: 2 | B6: Kelapa Gading | C6: 23687.8 | D6: 26463.66 | E6: 29345.05 | F6: 35826.96 | G6: 42875.5 | H6: 43733.34 | I6: 49110.499 | J6: 51356.454 | K6: 46306.549 | L6: 40704.223 | M6: 44293.535 | N6: 43421.62
A7: 3 | B7: Koja | C7: 14404.05 | D7: 15837.7 | E7: 14952.65 | F7: 14933.65 | G7: 14609.18 | H7: 14347.49 | I7: 26857.869 | J7: 28108.407 | K7: 32185.663 | L7: 28912.603 | M7: 29651.435 | N7: 27124.49
A8: 4 | B8: Pademangan | C8: 9440 | D8: 10669 | E8: 11490 | F8: 8820 | G8: 11265 | H8: 12073 | I8: 19156.321 | J8: 18205.247 | K8: 20137.383 | L8: 21235.093 | M8: 22982.015 | N8: 77696.03
A9: 5 | B9: Penjaringan | C9: 53036 | D9: 37450 | E9: 37893 | F9: 66824.4 | G9: 41944.4 | H9: 39910.47 | I9: 35598.16 | J9: 36326.287 | K9: 30810.689 | L9: 24252.123 | M9: 26493.335 | N9: 17465.12
A10: 6 | B10: Tanjung Priok | C10: 345468.21 | D10: 23280.75 | E10: 20186.66 | F10: 8221.85 | G10: 19671.06 | H10: 20320.839 | I10: 29009.029 | J10: 31541.951 | K10: 28313.984 | L10: 31478.723 | M10: 40692.655 | N10: 38856.48
C11: =SUM(C5:C10) -> 468776.21 | D11: =SUM(D5:D10) -> 139681.12 | E11: =SUM(E5:E10) -> 136264.78 | F11: =SUM(F5:F10) -> 153714.32 | G11: =SUM(G5:G10) -> 152910.15 | H11: =SUM(H5:H10) -> 151820.73 | I11: =SUM(I5:I10) -> 196136.8 | J11: =SUM(J5:J10) -> 208312.76 | ... N11: =SUM(N5:N10) -> 238074.28
A12: TARGET AKUMULATIF | B12: TOTAL AKUMULATIF | C12: =C11 -> 468776.21 | D12: =C12+D11 -> 608457.33 | E12: =D12+E11 -> 744722.11 | F12: =E12+F11 -> 898436.43 | G12: =F12+G11 -> 1051346.6 | H12: =G12+H11 -> 1203167.3 | I12: =H12+I11 -> 1399304.1 | J12: =I12+J11 -> 1607616.9 | K12: =J12+K11 -> 1802821.4 | ... N12: =M12+N11 -> 2428395.5
A13: TARGET | E13: 600000 | H13: 1200000 | K13: 1800000 | N13: 2420000
A14: TRIWULAN | E14: TW I | H14: TW II | K14: TW III | N14: TW IV

Sheet Jakarta Barat
A1: Reduksi Bank Sampah Kota Administrasi Jakarta Barat Tahun 2024
A3: No | B3: Kecamatan | C3: Reduksi (kg/Bulan)
C4: Januari | D4: Februari | E4: Maret | F4: April | G4: Mei | H4: Juni | I4: Juli | J4: Agustus | K4: September | L4: Oktober | M4: November | N4: Desember
A5: 1 | B5: Cengkareng | C5: 26498 | D5: 26447 | E5: 25143 | F5: 21121 | G5: 25473 | H5: 15734 | I5: 17261 | J5: 6820 | K5: 9623 | L5: 12572.2 | M5: 12273.5
A6: 2 | B6: Grogol Petamburan | C6: 12351 | D6: 8345 | E6: 71003.76 | F6: 108985.24 | G6: 72684.24 | H6: 16376.4 | I6: 26157.54 | J6: 303512 | K6: 15582.5 | L6: 22845 | M6: 24895.2
A7: 3 | B7: Kalideres | C7: 4883.01 | D7: 4886.5 | E7: 8605.11 | F7: 5987 | G7: 9220.5 | H7: 13840 | I7: 10807.2 | J7: 10567.36 | K7: 15039.5 | L7: 11695.5 | M7: 5924.9
A8: 4 | B8: Kebon Jeruk | C8: 21815 | D8: 32172 | E8: 22086 | F8: 37427.5 | G8: 34014.3 | H8: 17537 | I8: 36841.5 | J8: 51519.4 | K8: 14152.3 | L8: 18319.8 | M8: 20241
A9: 5 | B9: Kembangan | C9: 19746.7 | D9: 13053 | E9: 16753.3 | F9: 11574 | G9: 13995.5 | H9: 6208 | I9: 2418.5 | J9: 1019 | K9: 4137.5 | L9: 18383.8 | M9: 16220.7
A10: 6 | B10: Palmerah | C10: 21632.2 | D10: 19949.8 | E10: 24651.6 | F10: 19575.5 | G10: 26729 | H10: 17780.2 | I10: 28500.3 | J10: 24294.9 | K10: 26469.2 | L10: 29684 | M10: 26369.9
A11: 7 | B11: Tamansari | C11: 5350.5 | D11: 16898.5 | E11: 9645.5 | F11: 5217 | G11: 9823.5 | H11: 4824 | I11: 10644.5 | J11: 8101.5 | K11: 7093.6 | L11: 11145.5 | M11: 9795.5
A12: 8 | B12: Tambora | C12: 11252.5 | D12: 16574 | E12: 55157.5 | F12: 12754 | G12: 17418.9 | H12: 12332.7 | I12: 27631.25 | J12: 21939 | K12: 20800.3 | L12: 18559 | M12: 19983.5
A13: TOTAL | C13: =SUM(C5:C12) -> 123528.91 | D13: =SUM(D5:D12) -> 138325.8 | E13: =SUM(E5:E12) -> 233045.77 | F13: =SUM(F5:F12) -> 222641.24 | G13: =SUM(G5:G12) -> 209358.94 | H13: =SUM(H5:H12) -> 104632.3 | I13: =SUM(I5:I12) -> 160261.79 | J13: =SUM(J5:J12) -> 427773.16 | ... N13: =SUM(N5:N12) -> 0
A14: TARGET AKUMULATIF | B14: TOTAL AKUMULATIF | C14: =C13 -> 123528.91 | D14: =C14+D13 -> 261854.71 | E14: =D14+E13 -> 494900.48 | F14: =E14+F13 -> 717541.72 | G14: =F14+G13 -> 926900.66 | H14: =G14+H13 -> 1031533 | I14: =H14+I13 -> 1191794.8 | J14: =I14+J13 -> 1619567.9 | K14: =J14+K13 -> 1732465.8 | ... N14: =M14+N13 -> 2011374.8
A15: TARGET | E15: 425000 | H15: 850000 | K15: 1275000 | N15: 1720000
A16: TRIWULAN | E16: TW I | H16: TW II | K16: TW III | N16: TW IV

Sheet Jakarta Selatan
A1: Reduksi Bank Sampah Tahun 2024
A2: Reduksi Bank Sampah Kota Administrasi Jakarta Selatan Tahun 2024
A4: No | B4: Kecamatan | C4: Reduksi (kg/Bulan)
C5: Januari | D5: Februari | E5: Maret | F5: April | G5: Mei | H5: Juni | I5: Juli | J5: Agustus | K5: September | L5: Oktober | M5: November | N5: Desember
A6: 1 | B6: Cilandak | C6: 15992.6 | D6: 12109.6 | E6: 9087.6 | F6: 3844.3 | G6: 19711.9 | H6: 6543 | I6: 12996.5 | J6: 10820.6 | K6: 9081.4 | L6: 9602.5 | M6: 8479.7
A7: 2 | B7: Jagakarsa | C7: 11124.92 | D7: 6864.11 | E7: 3774.22 | F7: 2494.79 | G7: 10229.84 | H7: 2149.28 | I7: 5840.7 | J7: 5502 | K7: 3066.07 | L7: 8111.05 | M7: 6920.6
A8: 3 | B8: Kebayoran Baru | C8: 10063.9 | D8: 7040.3 | E8: 7500.5 | F8: 7205.8 | G8: 12842.2 | H8: 8458.3 | I8: 15544.9 | J8: 21493.9 | K8: 10243.65 | L8: 16342.35 | M8: 8992.4
A9: 4 | B9: Kebayoran Lama | C9: 11391.28 | D9: 4139.1 | E9: 1086.36 | F9: 2062.5 | G9: 11737.5 | H9: 7455.8 | I9: 3383.67 | J9: 7307.63 | K9: 2381.45 | L9: 2324.97 | M9: 3060.6
A10: 5 | B10: Mampang Prapatan | C10: 24079.79 | D10: 24432.63 | E10: 15241.63 | F10: 12972.84 | G10: 24554.78 | H10: 14562.94 | I10: 16139.7 | J10: 9027.89 | K10: 13697.35 | L10: 8113.32 | M10: 11697.82
A11: 6 | B11: Pancoran | C11: 24046.8 | D11: 25303.8 | E11: 12380.13 | F11: 10353.12 | G11: 22208.03 | H11: 12184.84 | I11: 22145.9 | J11: 23815.79 | K11: 16876.02 | L11: 23049.61 | M11: 22312
A12: 7 | B12: Pasar Minggu | C12: 7709.36 | D12: 2609.24 | E12: 1506.26 | F12: 2225.7 | G12: 1218.5 | H12: 4114.4 | I12: 6613.2 | J12: 23104.13 | K12: 17124.83 | L12: 18866.55 | M12: 21621.01
A13: 8 | B13: Pesanggrahan | C13: 6391.68 | D13: 8827.8 | E13: 1926.9 | F13: 3803.67 | G13: 9504.27 | H13: 2116.66 | I13: 9518.4 | J13: 7532.7 | K13: 4762.685 | L13: 8438.06 | M13: 8950.49
A14: 9 | B14: Setiabudi | C14: 7031.16 | D14: 5903 | E14: 4841.17 | F14: 3444.85 | G14: 13112.59 | H14: 11490.45 | I14: 14182.8 | J14: 15929.25 | K14: 6234.38 | L14: 13022.03 | M14: 16293
A15: 10 | B15: Tebet | C15: 14283.9 | D15: 11688.8 | E15: 11951.1 | F15: 6863.6 | G15: 7116.1 | H15: 1831.1 | I15: 7324 | J15: 5164.2 | K15: 2760.7 | L15: 6882 | M15: 4578
A16: TOTAL | C16: =SUM(C6:C15) -> 132115.39 | D16: =SUM(D6:D15) -> 108918.38 | E16: =SUM(E6:E15) -> 69295.87 | F16: =SUM(F6:F15) -> 55271.17 | G16: =SUM(G6:G15) -> 132235.71 | H16: =SUM(H6:H15) -> 70906.77 | I16: =SUM(I6:I15) -> 113689.77 | J16: =SUM(J6:J15) -> 129698.09 | ... N16: =SUM(N6:N15) -> 0
A17: TARGET AKUMULATIF | B17: TOTAL AKUMULATIF | C17: =C16 -> 132115.39 | D17: =C17+D16 -> 241033.77 | E17: =D17+E16 -> 310329.64 | F17: =E17+F16 -> 365600.81 | G17: =F17+G16 -> 497836.52 | H17: =G17+H16 -> 568743.29 | I17: =H17+I16 -> 682433.06 | J17: =I17+J16 -> 812131.15 | K17: =J17+K16 -> 898359.69 | ... N17: =M17+N16 -> 1126017.7
A18: TARGET | E18: 260000 | H18: 520000 | K18: 780000 | N18: 1060000
A19: TRIWULAN | E19: TW I | H19: TW II | K19: TW III | N19: TW IV

Sheet Jakarta Timur
A1: Reduksi Bank Sampah Tahun 2024
A2: Reduksi Bank Sampah Kota Administrasi Jakarta Timur Tahun 2024
A4: No | B4: Kecamatan | C4: Reduksi (kg/Bulan)
C5: Januari | D5: Februari | E5: Maret | F5: April | G5: Mei | H5: Juni | I5: Juli | J5: Agustus | K5: September | L5: Oktober | M5: November | N5: Desember
A6: 1 | B6: Cakung | C6: 23488 | D6: 24392 | E6: 4442.99 | F6: 12946.02 | G6: 25802.55 | H6: 35754.8 | I6: 42096.6 | J6: 32790 | K6: 34452 | L6: 874 | M6: 343
A7: 2 | B7: Cipayung | C7: 37906.04 | D7: 32046.66 | E7: 15309.7 | F7: 10444.42 | G7: 15807.01 | H7: 18157.24 | I7: 15262.96 | J7: 16128.21 | K7: 15282.91 | L7: 15029.41 | M7: 15517.38
A8: 3 | B8: Ciracas | C8: 5686.63 | D8: 4545.87 | E8: 3776 | F8: 6368.19 | G8: 18756 | H8: 20907.38 | I8: 1130.92 | J8: 25030 | K8: 16416 | L8: 7724 | M8: 11439
A9: 4 | B9: Duren Sawit | C9: 8596.8 | D9: 5819 | E9: 2629 | F9: 4092.3 | G9: 24318 | H9: 41342 | I9: 7230 | J9: 11679.7 | K9: 11182 | L9: 10515 | M9: 19492
A10: 5 | B10: Jatinegara | C10: 11942.99 | D10: 7397.5 | E10: 8428.3 | F10: 9597.9 | G10: 27726.3 | H10: 53241.2 | I10: 63177.7 | J10: 45147.5 | K10: 91949 | L10: 48337 | M10: 2933
A11: 6 | B11: Kramatjati | C11: 8283.37 | D11: 6747.51 | E11: 6001.34 | F11: 4482.08 | G11: 15009.95 | H11: 15152.65 | I11: 10945.19 | J11: 19964.4 | K11: 15158.35 | L11: 14720.15 | M11: 12467.07
A12: 7 | B12: Makasar | C12: 10576.54 | D12: 11127.6 | E12: 9952.65 | F12: 4099.4 | G12: 15441.55 | H12: 17070 | I12: 15300.39 | J12: 15786.75 | K12: 16280 | L12: 16805 | M12: 17891
A13: 8 | B13: Matraman | C13: 16423 | D13: 14780 | E13: 11997 | F13: 9066 | G13: 20105 | H13: 25789 | I13: 7755 | J13: 16093.4 | K13: 12761.1 | L13: 14886.712 | M13: 12331.8
A14: 9 | B14: Pasar Rebo | C14: 8535.65 | D14: 10363.5 | E14: 8652.75 | F14: 9140.95 | G14: 19026.7 | H14: 25200.8 | I14: 28523.37 | J14: 10119.6 | K14: 3028.15 | L14: 10199.02 | M14: 11441.9
A15: 10 | B15: Pulogadung | C15: 10358.8 | D15: 13170.5 | E15: 9135.6 | F15: 5421.7 | G15: 19560 | H15: 27348.2 | I15: 13927.3 | J15: 15238.4 | K15: 13551.9 | L15: 15607.5 | M15: 13116
A16: TOTAL | C16: =SUM(C6:C15) -> 141797.82 | D16: =SUM(D6:D15) -> 130390.14 | E16: =SUM(E6:E15) -> 80325.33 | F16: =SUM(F6:F15) -> 75658.96 | G16: =SUM(G6:G15) -> 201553.06 | H16: =SUM(H6:H15) -> 279963.27 | I16: =SUM(I6:I15) -> 205349.43 | J16: =SUM(J6:J15) -> 207977.96 | ... N16: =SUM(N6:N15) -> 0
A17: TARGET AKUMULATIF | B17: TOTAL AKUMULATIF | C17: =C16 -> 141797.82 | D17: =C17+D16 -> 272187.96 | E17: =D17+E16 -> 352513.29 | F17: =E17+F16 -> 428172.25 | G17: =F17+G16 -> 629725.31 | H17: =G17+H16 -> 909688.58 | I17: =H17+I16 -> 1115038 | J17: =I17+J16 -> 1323016 | K17: =J17+K16 -> 1553077.4 | ... N17: =M17+N16 -> 1824747.3
A18: TARGET | E18: 450000 | H18: 900000 | K18: 1350000 | N18: 1820000
A19: TRIWULAN | E19: TW I | H19: TW II | K19: TW III | N19: TW IV

Sheet P1000
A1: Reduksi Bank Sampah Tahun 2024
A2: Reduksi Bank Sampah Kabupaten Administrasi Kepulauan Seribu Tahun 2024
A4: No | B4: Kecamatan | C4: Reduksi (kg/Bulan)
C5: Januari | D5: Februari | E5: Maret | F5: April | G5: Mei | H5: Juni | I5: Juli | J5: Agustus | K5: September | L5: Oktober | M5: November | N5: Desember
A6: 1 | B6: Kepulauan Seribu | C6: 4034.09 | D6: 4970.8 | E6: 6624.67 | F6: 6445.1 | G6: 6504.18 | H6: 6520.12 | I6: 5529.98 | J6: 5629.46 | K6: 4990.72 | L6: 6074.36 | M6: 6219.77
A7: TOTAL | C7: =SUM(C6:C6) -> 4034.09 | D7: =SUM(D6:D6) -> 4970.8 | E7: =SUM(E6:E6) -> 6624.67 | F7: =SUM(F6:F6) -> 6445.1 | G7: =SUM(G6:G6) -> 6504.18 | H7: =SUM(H6:H6) -> 6520.12 | I7: =SUM(I6:I6) -> 5529.98 | J7: =SUM(J6:J6) -> 5629.46 | ... N7: =SUM(N6:N6) -> 0
A8: TARGET AKUMULATIF | B8: TOTAL AKUMULATIF | C8: =C7 -> 4034.09 | D8: =C8+D7 -> 9004.89 | E8: =D8+E7 -> 15629.56 | F8: =E8+F7 -> 22074.66 | G8: =F8+G7 -> 28578.84 | H8: =G8+H7 -> 35098.96 | I8: =H8+I7 -> 40628.94 | J8: =I8+J7 -> 46258.4 | K8: =J8+K7 -> 51249.12 | ... N8: =M8+N7 -> 63543.25
A9: TARGET | E9: 15000 | H9: 30000 | K9: 45000 | N9: 60000
A10: TRIWULAN | E10: TW I | H10: TW II | K10: TW III | N10: TW IV
